BEGIN:VCALENDAR
VERSION:2.0
PRODID:-//Chamber of Commerce Southwestern Madison County - ECPv6.15.20//NONSGML v1.0//EN
CALSCALE:GREGORIAN
METHOD:PUBLISH
X-WR-CALNAME:Chamber of Commerce Southwestern Madison County
X-ORIGINAL-URL:https://chamberswmc.org
X-WR-CALDESC:Events for Chamber of Commerce Southwestern Madison County
REFRESH-INTERVAL;VALUE=DURATION:PT1H
X-Robots-Tag:noindex
X-PUBLISHED-TTL:PT1H
BEGIN:VTIMEZONE
TZID:America/Chicago
BEGIN:DAYLIGHT
TZOFFSETFROM:-0600
TZOFFSETTO:-0500
TZNAME:CDT
DTSTART:20210314T080000
END:DAYLIGHT
BEGIN:STANDARD
TZOFFSETFROM:-0500
TZOFFSETTO:-0600
TZNAME:CST
DTSTART:20211107T070000
END:STANDARD
BEGIN:DAYLIGHT
TZOFFSETFROM:-0600
TZOFFSETTO:-0500
TZNAME:CDT
DTSTART:20220313T080000
END:DAYLIGHT
BEGIN:STANDARD
TZOFFSETFROM:-0500
TZOFFSETTO:-0600
TZNAME:CST
DTSTART:20221106T070000
END:STANDARD
BEGIN:DAYLIGHT
TZOFFSETFROM:-0600
TZOFFSETTO:-0500
TZNAME:CDT
DTSTART:20230312T080000
END:DAYLIGHT
BEGIN:STANDARD
TZOFFSETFROM:-0500
TZOFFSETTO:-0600
TZNAME:CST
DTSTART:20231105T070000
END:STANDARD
BEGIN:DAYLIGHT
TZOFFSETFROM:-0600
TZOFFSETTO:-0500
TZNAME:CDT
DTSTART:20240310T080000
END:DAYLIGHT
BEGIN:STANDARD
TZOFFSETFROM:-0500
TZOFFSETTO:-0600
TZNAME:CST
DTSTART:20241103T070000
END:STANDARD
END:VTIMEZONE
BEGIN:VEVENT
DTSTART;VALUE=DATE:20231007
DTEND;VALUE=DATE:20231029
DTSTAMP:20260423T111909
CREATED:20230828T151705Z
LAST-MODIFIED:20230828T151705Z
UID:8198-1696636800-1698537599@chamberswmc.org
SUMMARY:Magic & Mayhem - Every Saturday in October
DESCRIPTION:
URL:https://chamberswmc.org/event/magic-mayhem-every-saturday-in-october/
LOCATION:Granite City\, Illinois
ATTACH;FMTTYPE=image/jpeg:https://chamberswmc.org/wp-content/uploads/2023/08/Magic-Mayhem.jpg
END:VEVENT
BEGIN:VEVENT
DTSTART;VALUE=DATE:20231007
DTEND;VALUE=DATE:20231101
DTSTAMP:20260423T111909
CREATED:20230828T151335Z
LAST-MODIFIED:20230905T172759Z
UID:8193-1696636800-1698796799@chamberswmc.org
SUMMARY:Fall Flicker - October 7
DESCRIPTION:
URL:https://chamberswmc.org/event/fall-flicker/
LOCATION:Granite City\, Illinois
ATTACH;FMTTYPE=image/jpeg:https://chamberswmc.org/wp-content/uploads/2023/08/Fall-Flicker.jpg
END:VEVENT
BEGIN:VEVENT
DTSTART;TZID=America/Chicago:20230928T113000
DTEND;TZID=America/Chicago:20230928T190000
DTSTAMP:20260423T111909
CREATED:20230815T170043Z
LAST-MODIFIED:20230905T172914Z
UID:8207-1695900600-1695927600@chamberswmc.org
SUMMARY:Annual Golf Tournament - September 28
DESCRIPTION:Promote your business\, socialize\, and have a blast at our annual golf tournament! \nFlip through the flyer for more details about the event.
URL:https://chamberswmc.org/event/the-chambers-annual-golf-tournament/
LOCATION:Gateway National Golf Links\, 18 Golf Drive\, Madison\, IL\, 62060\, United States
ATTACH;FMTTYPE=application/pdf:https://chamberswmc.org/wp-content/uploads/2023/09/2023-Golf-Flyer.pdf
ORGANIZER;CN="The Chamber of Commerce Southwestern Madison County":MAILTO:chamber@chamberswmc.org
END:VEVENT
BEGIN:VEVENT
DTSTART;VALUE=DATE:20230802
DTEND;VALUE=DATE:20230803
DTSTAMP:20260423T111909
CREATED:20230713T151244Z
LAST-MODIFIED:20230731T155237Z
UID:8116-1690934400-1691020799@chamberswmc.org
SUMMARY:Community Safety 101 - CANCELLED
DESCRIPTION:**THIS EVENT HAS BEEN CANCELLED** \n  \nPlease view the Community Safety 101 flyer and fill out the registration form below. In the class and time section\, type in your desired class(es) and time slot(s). Each class is scheduled to be an hour long. \n\n← Back Thank you for your response. ✨\n\n\n					\n						\n							\n							\n						\n						\n						\n						\n						\n							\n								\n									\n										\n										\n									\n									\n										\n										\n									\n								\n							\n						\n						\n							\n								\n									\n									\n										\n									\n									\n									\n								\n							\n						\n					\n				\n\n\n\nName(required)\n\n \n			\n				\n					\n						\n						\n						\n					\n				\n				\n			 \n	\n\n\nAddress(required)\n\n \n			\n				\n					\n						\n						\n						\n					\n				\n				\n			 \n	\n\n\nEmail(required)\n\n \n			\n				\n					\n						\n						\n						\n					\n				\n				\n			 \n	\n\n\nContact Phone Number(required)\n\n \n			\n				\n					\n						\n						\n						\n					\n				\n				\n			 \n	\n\n\nClass and Time(required)\n\n \n			\n				\n					\n						\n						\n						\n					\n				\n				\n			\n	\n	\n\n				\n					\n				\n						Submit
URL:https://chamberswmc.org/event/community-safety-101/
LOCATION:SWIC Granite City Campus\, 4950 Maryville Road\, Granite City\, IL\, 62040\, United States
ATTACH;FMTTYPE=image/jpeg:https://chamberswmc.org/wp-content/uploads/2023/07/Community-Safety-101-8-2-2023.jpg
END:VEVENT
BEGIN:VEVENT
DTSTART;TZID=America/Chicago:20230601T113000
DTEND;TZID=America/Chicago:20230601T130000
DTSTAMP:20260423T111909
CREATED:20230523T180629Z
LAST-MODIFIED:20230523T180640Z
UID:8039-1685619000-1685624400@chamberswmc.org
SUMMARY:June 1st\, 2023
DESCRIPTION:
URL:https://chamberswmc.org/event/june-1st-2023/
LOCATION:Jerry’s Cafeteria\, 1920 Edison Ave\, Granite City\, IL\, 62040\, United States
ATTACH;FMTTYPE=image/jpeg:https://chamberswmc.org/wp-content/uploads/2023/05/Networking-Luncheon-June-2023.jpg
END:VEVENT
BEGIN:VEVENT
DTSTART;TZID=America/Chicago:20230518T073000
DTEND;TZID=America/Chicago:20230518T090000
DTSTAMP:20260423T111909
CREATED:20230505T184711Z
LAST-MODIFIED:20230505T184720Z
UID:8000-1684395000-1684400400@chamberswmc.org
SUMMARY:Eggs & Issues May 18th\, 2023
DESCRIPTION:
URL:https://chamberswmc.org/event/eggs-issues-may-18th-2023/
LOCATION:The Mill\, 1311 20th & Delmar\, Granite City\, IL\, 62040\, United States
ATTACH;FMTTYPE=image/jpeg:https://chamberswmc.org/wp-content/uploads/2023/05/EI-State-of-Our-Cities-GC.jpg
END:VEVENT
BEGIN:VEVENT
DTSTART;TZID=America/Chicago:20230511T170000
DTEND;TZID=America/Chicago:20230511T190000
DTSTAMP:20260423T111909
CREATED:20230418T192714Z
LAST-MODIFIED:20230418T193050Z
UID:7996-1683824400-1683831600@chamberswmc.org
SUMMARY:It's 5 O'Clock Somewhere May 11th\, 2023
DESCRIPTION:
URL:https://chamberswmc.org/event/its-5-oclock-somewhere-may-11th-2023/
LOCATION:Manhattan’s Coffee & Socialhouse\, 3361 Fehling Road\, Granite City\, IL\, 62040\, United States
ATTACH;FMTTYPE=image/png:https://chamberswmc.org/wp-content/uploads/2023/04/Its-5-OClock-Somewhere-5-11-23.png
END:VEVENT
BEGIN:VEVENT
DTSTART;TZID=America/Chicago:20230420T073000
DTEND;TZID=America/Chicago:20230420T090000
DTSTAMP:20260423T111909
CREATED:20230412T193244Z
LAST-MODIFIED:20230418T193625Z
UID:7990-1681975800-1681981200@chamberswmc.org
SUMMARY:Eggs & Issues April 20th\, 2023
DESCRIPTION:
URL:https://chamberswmc.org/event/eggs-issues-april-20th-2023/
LOCATION:Gateway Regional Medical Center\, 2100 Madison Ave\, Granite City\, IL\, 62040\, United States
ATTACH;FMTTYPE=image/jpeg:https://chamberswmc.org/wp-content/uploads/2023/04/Eggs-Issues-4-20-23-Flyer.jpg
END:VEVENT
BEGIN:VEVENT
DTSTART;TZID=America/Chicago:20230413T170000
DTEND;TZID=America/Chicago:20230413T190000
DTSTAMP:20260423T111909
CREATED:20230316T153719Z
LAST-MODIFIED:20230316T153729Z
UID:7955-1681405200-1681412400@chamberswmc.org
SUMMARY:It's 5 O'clock Somewhere April 13th\, 2023
DESCRIPTION:
URL:https://chamberswmc.org/event/its-5-oclock-somewhere-april-13th-2023/
LOCATION:The Speakeasy\, 1318 Niedringhaus Avenue\, Granite City\, IL\, 62040\, United States
ATTACH;FMTTYPE=image/png:https://chamberswmc.org/wp-content/uploads/2023/03/Its-5-OClock-Somewhere-Flyers-2023-2.png
END:VEVENT
BEGIN:VEVENT
DTSTART;TZID=America/Chicago:20230404T113000
DTEND;TZID=America/Chicago:20230404T130000
DTSTAMP:20260423T111909
CREATED:20230320T181359Z
LAST-MODIFIED:20230404T181456Z
UID:7981-1680607800-1680613200@chamberswmc.org
SUMMARY:Networking Luncheon April 6th\, 2023
DESCRIPTION:
URL:https://chamberswmc.org/event/networking-luncheon-april-6th-2023/
LOCATION:Jerry’s Cafeteria\, 1920 Edison Ave\, Granite City\, IL\, 62040\, United States
ATTACH;FMTTYPE=image/png:https://chamberswmc.org/wp-content/uploads/2023/04/Networking-Luncheon-April-2023.png
END:VEVENT
BEGIN:VEVENT
DTSTART;TZID=America/Chicago:20230322T120000
DTEND;TZID=America/Chicago:20230322T120000
DTSTAMP:20260423T111909
CREATED:20230314T190009Z
LAST-MODIFIED:20230314T190026Z
UID:7944-1679486400-1679486400@chamberswmc.org
SUMMARY:Regenerative Health and Chiropractic\, LTD Ribbon Cutting March 22nd\, 2023
DESCRIPTION:
URL:https://chamberswmc.org/event/regenerative-health-and-chiropractic-ltd-ribbon-cutting-march-22-2023/
LOCATION:Regenerative Health and Chiropractic\, LTD\, 2013 Johnson Road\, Granite City\, IL\, 62040\, United States
ATTACH;FMTTYPE=image/png:https://chamberswmc.org/wp-content/uploads/2023/03/Grand-opening.png
END:VEVENT
BEGIN:VEVENT
DTSTART;TZID=America/Chicago:20230316T073000
DTEND;TZID=America/Chicago:20230316T090000
DTSTAMP:20260423T111909
CREATED:20230217T205845Z
LAST-MODIFIED:20230217T205859Z
UID:7927-1678951800-1678957200@chamberswmc.org
SUMMARY:Eggs & Issues March 16th\, 2023
DESCRIPTION:The Chamber of Commerce’s Eggs & Issues program presents Mayor John Hamm State of the City of Madison.\n \nJoin us Thursday\, March 16th\, at the World Wide Technology Raceway from 7:30am – 9:00am.\n \nPlease RSVP by calling the Chamber office (618) 876-6400 or via email\n \nEggs & Issues presents programs that address issues affecting the way of life in our community. As we work to provide the needed tools to navigate the ever changing business world of today!
URL:https://chamberswmc.org/event/eggs-issues-march-16th-2023/
LOCATION:World Wide Technology Raceway\, 700 Raceway Blvd\, Madison\, IL\, 62060\, United States
ATTACH;FMTTYPE=image/png:https://chamberswmc.org/wp-content/uploads/2023/02/EI-Mar.-16-23-Flyer.png
END:VEVENT
BEGIN:VEVENT
DTSTART;TZID=America/Chicago:20230309T170000
DTEND;TZID=America/Chicago:20230309T190000
DTSTAMP:20260423T111909
CREATED:20230214T201207Z
LAST-MODIFIED:20230214T201217Z
UID:7919-1678381200-1678388400@chamberswmc.org
SUMMARY:It's 5 O'Clock Somewhere March 9th\, 2023
DESCRIPTION:Join us Thursday\, March 9th\, for It’s 5 O’Clock Somewhere at Chamber member Manhattan’s Coffee and Socialhouse for a networking opportunity in a different setting! \nPlease RSVP via (618) 876-6400 or chamber@chamberswmc.org
URL:https://chamberswmc.org/event/its-5-oclock-somewhere-march-9th-2023/
LOCATION:Manhattan’s Coffee & Socialhouse\, 3361 Fehling Road\, Granite City\, IL\, 62040\, United States
ATTACH;FMTTYPE=image/png:https://chamberswmc.org/wp-content/uploads/2023/02/3-9-23-Its-5-OClock-Somewhere-Flyer.png
END:VEVENT
BEGIN:VEVENT
DTSTART;TZID=America/Chicago:20230302T113000
DTEND;TZID=America/Chicago:20230302T130000
DTSTAMP:20260423T111909
CREATED:20230214T201007Z
LAST-MODIFIED:20230216T210804Z
UID:7916-1677756600-1677762000@chamberswmc.org
SUMMARY:Networking Luncheon March 2nd\, 2023
DESCRIPTION:Join us Thursday\, March 2nd\, for the Chamber’s monthly Networking Luncheon. \nMarch’s program presents a local business Omega Music. \nPlease RSVP by calling the Chamber office (618) 876-6400 or emailing chamber@chamberswmc.org
URL:https://chamberswmc.org/event/networking-luncheon-march-2nd-2023/
LOCATION:Jerry’s Cafeteria\, 1920 Edison Ave\, Granite City\, IL\, 62040\, United States
ATTACH;FMTTYPE=image/png:https://chamberswmc.org/wp-content/uploads/2023/02/3-2-2023-Networking-Luncheon-Omega-Music-Flyer.png
END:VEVENT
BEGIN:VEVENT
DTSTART;TZID=America/Chicago:20230209T170000
DTEND;TZID=America/Chicago:20230209T190000
DTSTAMP:20260423T111909
CREATED:20230119T195202Z
LAST-MODIFIED:20230119T195340Z
UID:7868-1675962000-1675969200@chamberswmc.org
SUMMARY:It's 5 O'Clock Somewhere February 9th\, 2023
DESCRIPTION:The Chamber is hosting it’s monthly It’s 5 O’Clock Somewhere at Chamber Member Manhattan’s Coffee & Socialhouse for February! \nJoin us for a networking opportunity in a different setting!
URL:https://chamberswmc.org/event/its-5-oclock-somewhere-february-9th-2023/
LOCATION:Manhattan’s Coffee & Socialhouse\, 3361 Fehling Road\, Granite City\, IL\, 62040\, United States
ATTACH;FMTTYPE=image/png:https://chamberswmc.org/wp-content/uploads/2023/01/Feb-9-23-5-OClock-Somewhere-Manhattans.png
END:VEVENT
BEGIN:VEVENT
DTSTART;TZID=America/Chicago:20230202T113000
DTEND;TZID=America/Chicago:20230202T130000
DTSTAMP:20260423T111909
CREATED:20230110T185120Z
LAST-MODIFIED:20230110T185131Z
UID:7823-1675337400-1675342800@chamberswmc.org
SUMMARY:Networking Luncheon February 2nd\, 2023
DESCRIPTION:Join us Thursday\, February 2nd\, for the Chamber’s monthly Networking Luncheon at Jerry’s Cafeteria. February presents Brenda Whitaker\, Director of Arts\, Entertainment & Tourism for the City of Granite City\, and the Mardi Gras Committee on the Granite City Mardi Gras Celebration. \n\n\nPlease RSVP by calling the Chamber office (618) 876-6400 or by emailing chamber@chamberswmc.org\n \n\n\nNo one can promote your business better than you! These monthly networking opportunities give your business the opportunity to gain exposure and recognition and put your business front and center with other businesses in the communities of Granite City\, Madison\, Venice\, Pontoon Beach\, and Mitchell. 
URL:https://chamberswmc.org/event/networking-luncheon-february-2nd-2023/
LOCATION:Jerry’s Cafeteria\, 1920 Edison Ave\, Granite City\, IL\, 62040\, United States
ATTACH;FMTTYPE=image/jpeg:https://chamberswmc.org/wp-content/uploads/2023/01/Networking-Luncheon-Mrdi-Gras-23.jpg
END:VEVENT
BEGIN:VEVENT
DTSTART;TZID=America/Chicago:20230112T170000
DTEND;TZID=America/Chicago:20230112T190000
DTSTAMP:20260423T111909
CREATED:20230103T203223Z
LAST-MODIFIED:20230103T203235Z
UID:7818-1673542800-1673550000@chamberswmc.org
SUMMARY:It's 5 O'Clock Somewhere January 12th\, 2023
DESCRIPTION:The Chamber is kicking off the new year with Chamber Member Manhattan’s Coffee & Socialhouse for our monthly It’s 5 O’Clock Somewhere. \nJoin us for a networking opportunity in a different setting!
URL:https://chamberswmc.org/event/its-5-oclock-somewhere-january-12th-2023/
LOCATION:Manhattan’s Coffee & Socialhouse\, 3361 Fehling Road\, Granite City\, IL\, 62040\, United States
ATTACH;FMTTYPE=image/png:https://chamberswmc.org/wp-content/uploads/2023/01/Its-got-to-be-5-Oclock-somewhere-1.png
END:VEVENT
BEGIN:VEVENT
DTSTART;TZID=America/Chicago:20221116T110000
DTEND;TZID=America/Chicago:20221116T110000
DTSTAMP:20260423T111909
CREATED:20221101T212740Z
LAST-MODIFIED:20221101T212751Z
UID:7693-1668596400-1668596400@chamberswmc.org
SUMMARY:JJ's Bar-B-Q & More Ribbon Cutting November 16th\, 2022
DESCRIPTION:Join us Wednesday\, November 16th as we welcome JJ’s Bar-B-Q & More with a ribbon cutting at their NEW location!
URL:https://chamberswmc.org/event/jjs-bar-b-q-more-ribbon-cutting-november-16th-2022/
LOCATION:JJ’s Bar-B-Q & More\, 1316 Niedringhaus Ave\, Granite City\, IL\, 62040\, United States
ATTACH;FMTTYPE=image/png:https://chamberswmc.org/wp-content/uploads/2022/11/JJs-Bar-B-Q-More-RC-Flyer-2022.png
END:VEVENT
BEGIN:VEVENT
DTSTART;TZID=America/Chicago:20221110T170000
DTEND;TZID=America/Chicago:20221110T170000
DTSTAMP:20260423T111909
CREATED:20221027T175735Z
LAST-MODIFIED:20221027T175745Z
UID:7681-1668099600-1668099600@chamberswmc.org
SUMMARY:It's 5 O'Clock Somewhere November 10th\, 2022
DESCRIPTION:November is right around the corner which means the Chamber’s monthly “It’s Got to be 5 O’Clock Somewhere” is too. Join us at Manhattan’s Coffee and Socialhouse for a networking opportunity in a different setting! \nPlease RSVP by calling the Chamber office (618) 876-6400 or by email \nNo one can promote your business better than you! These monthly networking opportunities give your business the opportunity to gain exposure and recognition and put your business front and center with other businesses in the communities of Granite City\, Madison\, Venice\, Pontoon Beach\, and Mitchell.
URL:https://chamberswmc.org/event/its-5-oclock-somewhere-november-10th-2022/
LOCATION:Manhattan’s Coffee & Socialhouse\, 3361 Fehling Road\, Granite City\, IL\, 62040\, United States
ATTACH;FMTTYPE=image/png:https://chamberswmc.org/wp-content/uploads/2022/10/Its-5-OClock-Somewhere-Manhattans-Nov.-2022.png
END:VEVENT
BEGIN:VEVENT
DTSTART;TZID=America/Chicago:20221109T120000
DTEND;TZID=America/Chicago:20221109T120000
DTSTAMP:20260423T111909
CREATED:20221101T153355Z
LAST-MODIFIED:20221101T213002Z
UID:7687-1667995200-1667995200@chamberswmc.org
SUMMARY:Capolavoro Tattoo Studio Ribbon Cutting November 9th\, 2022
DESCRIPTION:Join the Chamber Wednesday\, November 9th to help welcome a NEW Business\, Capolavoro Tattoo Studio\, to the community!
URL:https://chamberswmc.org/event/capolavoro-tattoo-studio-ribbon-cutting-nov-9th/
LOCATION:Capolavoro Tattoo Studio\, 4020 Pontoon Road #6\, Pontoon Beach\, IL\, 62040\, United States
ATTACH;FMTTYPE=image/png:https://chamberswmc.org/wp-content/uploads/2022/11/Capolavoro-Tattoo-Studio-Ribbon-Cutting-Flyer-2022.png
END:VEVENT
BEGIN:VEVENT
DTSTART;TZID=America/Chicago:20221103T113000
DTEND;TZID=America/Chicago:20221103T130000
DTSTAMP:20260423T111909
CREATED:20221026T173917Z
LAST-MODIFIED:20221101T213016Z
UID:7665-1667475000-1667480400@chamberswmc.org
SUMMARY:Networking Luncheon November 3rd\, 2022
DESCRIPTION:Join us Thursday\, November 3rd\, for the Chamber’s monthly Networking Luncheon at Jerry’s Cafeteria. November presents 7 presenters helping you with your preparation for the up-coming season with activities – home & office – gifts and entertainment.\n\nWhile you are shopping\, and enjoying your day\, you will ALSO be helping Our Small Business Community!
URL:https://chamberswmc.org/event/networking-luncheon-november-3rd-2022/
LOCATION:Jerry’s Cafeteria\, 1920 Edison Ave\, Granite City\, IL\, 62040\, United States
ATTACH;FMTTYPE=image/jpeg:https://chamberswmc.org/wp-content/uploads/2022/10/networking-Luncheon-November.jpg
END:VEVENT
BEGIN:VEVENT
DTSTART;TZID=America/Chicago:20221020T073000
DTEND;TZID=America/Chicago:20221020T090000
DTSTAMP:20260423T111909
CREATED:20221011T191315Z
LAST-MODIFIED:20221011T191325Z
UID:7640-1666251000-1666256400@chamberswmc.org
SUMMARY:Eggs & Issues Oct. 20th\, 2022
DESCRIPTION:Join us Thursday\, October 20th\, for the Chamber’s monthly Eggs & Issues program. October presents David Berczek\, PMP Chief Corporate Communications West NGA-OCCW USA!\n\nWe will discuss this 190 year old agency and the major roles it  has played in the history of our nation and the unbelievable changes the facility has made over the years.  And today’s cutting edge technology that is making our world a safer place.\n\nThis agency dates back to 1827 when it was the St. Louis Arsenal\, where the NGA currently resides\, began making and supplying small arms to the US Army and American settlers as the US expanded the western frontier.\n\nPlease RSVP by calling the Chamber office (618) 876-6400 or emailing chamber@chamberswmc.org
URL:https://chamberswmc.org/event/eggs-issues-oct-20th-2022/
LOCATION:Granite City Housing Authority\, 2517 Nameoki Road\, Granite City\, IL\, 62040\, United States
ATTACH;FMTTYPE=image/jpeg:https://chamberswmc.org/wp-content/uploads/2022/10/Eggs-Issues-NGA.jpg
END:VEVENT
BEGIN:VEVENT
DTSTART;TZID=America/Chicago:20221013T170000
DTEND;TZID=America/Chicago:20221013T170000
DTSTAMP:20260423T111909
CREATED:20220921T182730Z
LAST-MODIFIED:20220921T182730Z
UID:7482-1665680400-1665680400@chamberswmc.org
SUMMARY:It's 5 O'Clock Somewhere Oct. 13th 2022
DESCRIPTION:This month the Chamber is visiting The Speakeasy for our monthly It’s 5 O’Clock Somewhere. Join us for a networking opportunity in a different setting!\n\n\nThursday\, October 13th starting at 5:00pm\nThe Speakeasy / 1318 Niedringhaus Avenue\, Granite City\n\n\n\nPlease RSVP by calling the Chamber office (618) 876-6400 or by emailing chamber@chamberswmc.org\n\n\nNo one can promote your business better than you! These monthly networking opportunities give your business the opportunity to gain exposure and recognition and put your business front and center with other businesses in the communities of Granite City\, Madison\, Venice\, Pontoon Beach\, and Mitchell. 
URL:https://chamberswmc.org/event/its-5-oclock-somewhere-oct-13th-2022/
LOCATION:The Speakeasy\, 1318 Niedringhaus Avenue\, Granite City\, IL\, 62040\, United States
ATTACH;FMTTYPE=image/png:https://chamberswmc.org/wp-content/uploads/2022/09/Oct.-13-2022-5-OClock-Somewhere.png
END:VEVENT
BEGIN:VEVENT
DTSTART;TZID=America/Chicago:20221006T113000
DTEND;TZID=America/Chicago:20221006T130000
DTSTAMP:20260423T111909
CREATED:20220921T182341Z
LAST-MODIFIED:20220921T182935Z
UID:7477-1665055800-1665061200@chamberswmc.org
SUMMARY:Networking Luncheon Oct. 6th 2022
DESCRIPTION:Join us Thursday\, October 6th\, for the Chamber’s monthly Networking Luncheon at Jerry’s Cafeteria. October presents Brenda Whitaker\, Director of Arts\, Entertainment & Tourism for the City of Granite City.\n\nHear about all the exciting events happening in our community for the month of October. A Month of Magic and Mayhem!\n\n\n\n\nPlease RSVP by calling the Chamber office (618) 876-6400 or by emailing chamber@chamberswmc.org \nNo one can promote your business better than you! These monthly networking opportunities give your business the opportunity to gain exposure and recognition and put your business front and center with other businesses in the communities of Granite City\, Madison\, Venice\, Pontoon Beach\, and Mitchell. 
URL:https://chamberswmc.org/event/networking-luncheon-oct-6th-2022/
LOCATION:Jerry’s Cafeteria\, 1920 Edison Ave\, Granite City\, IL\, 62040\, United States
ATTACH;FMTTYPE=image/png:https://chamberswmc.org/wp-content/uploads/2022/09/Oct.-6-2022-Networking-Luncheon.png
END:VEVENT
BEGIN:VEVENT
DTSTART;TZID=America/Chicago:20220908T170000
DTEND;TZID=America/Chicago:20220908T190000
DTSTAMP:20260423T111909
CREATED:20220829T195636Z
LAST-MODIFIED:20220907T180717Z
UID:7422-1662656400-1662663600@chamberswmc.org
SUMMARY:It's 5 O'Clock Somewhere
DESCRIPTION:Join us as we welcome one of our newest Business Leaders Brian Fine\, new owner of Manhattan’s Coffee and Socialhouse. \nThursday\, September 8th\, at 5:00 \nIt’s Got to be 5 O’Clock Somewhere! Let’s Meet and Mingle! \nPlease let us know if you are able to make it by calling the Chamber office (618) 876-6400 or emailing chamber@chamberswmc.org
URL:https://chamberswmc.org/event/its-5-oclock-somewhere-6/
LOCATION:Manhattan’s Coffee & Socialhouse\, 3361 Fehling Road\, Granite City\, IL\, 62040\, United States
ATTACH;FMTTYPE=image/png:https://chamberswmc.org/wp-content/uploads/2022/08/Its-5-OClock-Somewhere-Sept-2022.png
END:VEVENT
BEGIN:VEVENT
DTSTART;TZID=America/Chicago:20220902T120000
DTEND;TZID=America/Chicago:20220906T120000
DTSTAMP:20260423T111909
CREATED:20220829T200313Z
LAST-MODIFIED:20220829T200313Z
UID:7425-1662120000-1662465600@chamberswmc.org
SUMMARY:Chocolate Covered Creations Grand Opening
DESCRIPTION:Join us Friday September 2nd\, in welcoming a NEW business into our community!  There will be a \nRibbon Cutting\nGoodie bags\nCosplayers get 10% off!\nAnd more!!! \nSeptember 2nd starting at noon! Check out Chocolate Covered Creations’ Facebook page for more information https://www.facebook.com/chocolatecoveredcreations1
URL:https://chamberswmc.org/event/chocolate-covered-creations-grand-opening/
LOCATION:Chocolate Covered Creations\, 3051 Washington Avenue\, Granite City\, IL\, 62040\, United States
ATTACH;FMTTYPE=image/jpeg:https://chamberswmc.org/wp-content/uploads/2022/08/Chocolate-Covered-Creations-RB-Sept-2022.jpg
END:VEVENT
BEGIN:VEVENT
DTSTART;TZID=America/Chicago:20220901T113000
DTEND;TZID=America/Chicago:20220901T130000
DTSTAMP:20260423T111909
CREATED:20220829T195013Z
LAST-MODIFIED:20220829T195013Z
UID:7419-1662031800-1662037200@chamberswmc.org
SUMMARY:Networking Luncheon
DESCRIPTION:Join us Thursday\, September 1st\, for the Chamber’s monthly Networking Luncheon program! September presents Tina Hubert\, Executive Director of Six Mile Regional Library District\, on the Winter Wonderland Festival and Candy Cane Parade events happening in Granite City. \nPlease RSVP by calling the Chamber office (618) 876-6400 or emailing chamber@chamberswmc.org \n  \n 
URL:https://chamberswmc.org/event/networking-luncheon-9/
LOCATION:Jerry’s Cafeteria\, 1920 Edison Ave\, Granite City\, IL\, 62040\, United States
END:VEVENT
BEGIN:VEVENT
DTSTART;TZID=America/Chicago:20220818T073000
DTEND;TZID=America/Chicago:20220818T090000
DTSTAMP:20260423T111909
CREATED:20220715T202643Z
LAST-MODIFIED:20220715T202643Z
UID:7326-1660807800-1660813200@chamberswmc.org
SUMMARY:Eggs & Issues
DESCRIPTION:Join us at Jerry’s Cafeteria Thursday\, August 18th\, for the Chamber’s monthly Eggs & Issues.\n\nAugust presents Tiffany Brase\, Civic Engineering Illinois Department of Transportation\, discussing the 1-270 expansion and the new 270 bridge.\n\nPlease RSVP by calling the Chamber office (618) 876-6400 or by emailing chamber@chamberswmc.org
URL:https://chamberswmc.org/event/eggs-issues-6/
LOCATION:Granite City Housing Authority\, 2517 Nameoki Road\, Granite City\, IL\, 62040\, United States
ATTACH;FMTTYPE=image/jpeg:https://chamberswmc.org/wp-content/uploads/2022/07/Eggs-and-Issues-8-2022-IDOT.jpg
END:VEVENT
BEGIN:VEVENT
DTSTART;VALUE=DATE:20220811
DTEND;VALUE=DATE:20220812
DTSTAMP:20260423T111909
CREATED:20220531T195758Z
LAST-MODIFIED:20220531T200000Z
UID:7203-1660176000-1660262399@chamberswmc.org
SUMMARY:The Chamber of Commerce Southwestern Madison County's Annual Golf Tournament 2022
DESCRIPTION:The Chamber’s Annual Golf Tournament 2022 is recognizing Curtis Francois as our FIRST Honorary Chairman! \nComcast announced World Wide Technology Raceway owner\, Curtis Francois\, as the seventh annual Comcast Community Champion of the Year. Francois receives the award for his work with the Raceway Gives Foundation\, which lifts up individuals and military families in the St. Louis area who are seeking to fulfill their potential\, no matter their situation. The award carries with it $60\,000 to the Raceway Gives Foundation in recognition of Curtis’ outstanding contributions to the community. Curtis we thank you\, for all you do in our community! \nThe Chamber’s Annual Golf Tournament will take place Thursday\, August 11th\, 2022 at the Gateway National Golf Links. Please complete the registration form and return it\, with payment\, by July 29th \nThe Annual Chamber of Commerce Playday has been one of the finest golf tournaments in the area for over 70 years and it is just getting better… don’t miss it! \nPlease click here for more information. Registration is on page 4 of the PDF 
URL:https://chamberswmc.org/event/the-chamber-of-commerce-southwestern-madison-countys-annual-golf-tournament-2022/
LOCATION:Gateway National Golf Links\, 18 Golf Drive\, Madison\, IL\, 62060\, United States
ATTACH;FMTTYPE=image/jpeg:https://chamberswmc.org/wp-content/uploads/2022/05/2022-golf-outing_Page_1.jpg
END:VEVENT
BEGIN:VEVENT
DTSTART;TZID=America/Chicago:20220804T113000
DTEND;TZID=America/Chicago:20220804T130000
DTSTAMP:20260423T111909
CREATED:20220715T202257Z
LAST-MODIFIED:20220721T180636Z
UID:7323-1659612600-1659618000@chamberswmc.org
SUMMARY:Networking Luncheon
DESCRIPTION:Join us Thursday\, August 4th\, for the Chamber’s monthly Networking Luncheon at Jerry’s Cafeteria. August presents Jean Ponzi\, Green Resource Manager at the Missouri Botanical Gardens\, on the Green Business Challenge.\n\n“The St. Louis Green Business Challenge assists companies with integrating sustainable measures into the kinds of daily operations common to every business. Participants identify and voluntarily adopt strategies that improve financial performance and reduce environmental impacts\, while engaging employees toward both workplace and community benefits…”\n\nLearn more at https://stlouisgreenchallenge.com/about/\n \nPlease RSVP by calling the Chamber office (618) 876-6400 or by emailing chamber@chamberswmc.org \n\n\nNo one can promote your business better than you! These monthly networking opportunities give your business the opportunity to gain exposure and recognition and put your business front and center with other businesses in the communities of Granite City\, Madison\, Venice\, Pontoon Beach\, and Mitchell.
URL:https://chamberswmc.org/event/networking-luncheon-8/
LOCATION:Jerry’s Cafeteria\, 1920 Edison Ave\, Granite City\, IL\, 62040\, United States
ATTACH;FMTTYPE=image/jpeg:https://chamberswmc.org/wp-content/uploads/2022/07/Networking-Luncheon-Ponzi-8-2022.jpg
END:VEVENT
END:VCALENDAR