BEGIN:VCALENDAR
VERSION:2.0
PRODID:-//Chamber of Commerce Southwestern Madison County - ECPv6.15.20//NONSGML v1.0//EN
CALSCALE:GREGORIAN
METHOD:PUBLISH
X-WR-CALNAME:Chamber of Commerce Southwestern Madison County
X-ORIGINAL-URL:https://chamberswmc.org
X-WR-CALDESC:Events for Chamber of Commerce Southwestern Madison County
REFRESH-INTERVAL;VALUE=DURATION:PT1H
X-Robots-Tag:noindex
X-PUBLISHED-TTL:PT1H
BEGIN:VTIMEZONE
TZID:America/Chicago
BEGIN:DAYLIGHT
TZOFFSETFROM:-0600
TZOFFSETTO:-0500
TZNAME:CDT
DTSTART:20210314T080000
END:DAYLIGHT
BEGIN:STANDARD
TZOFFSETFROM:-0500
TZOFFSETTO:-0600
TZNAME:CST
DTSTART:20211107T070000
END:STANDARD
BEGIN:DAYLIGHT
TZOFFSETFROM:-0600
TZOFFSETTO:-0500
TZNAME:CDT
DTSTART:20220313T080000
END:DAYLIGHT
BEGIN:STANDARD
TZOFFSETFROM:-0500
TZOFFSETTO:-0600
TZNAME:CST
DTSTART:20221106T070000
END:STANDARD
BEGIN:DAYLIGHT
TZOFFSETFROM:-0600
TZOFFSETTO:-0500
TZNAME:CDT
DTSTART:20230312T080000
END:DAYLIGHT
BEGIN:STANDARD
TZOFFSETFROM:-0500
TZOFFSETTO:-0600
TZNAME:CST
DTSTART:20231105T070000
END:STANDARD
END:VTIMEZONE
BEGIN:VEVENT
DTSTART;TZID=America/Chicago:20220519T073000
DTEND;TZID=America/Chicago:20220519T090000
DTSTAMP:20260423T155237
CREATED:20220425T174604Z
LAST-MODIFIED:20220419T142431Z
UID:6694-1652945400-1652950800@chamberswmc.org
SUMMARY:Eggs & Issues
DESCRIPTION:Join us for breakfast for Eggs & Issues and hear from Shane Watson\, Gateway Regional Medical Center CEO! \nMay 19th from 7:30am – 9:00am at the Granite City Housing Authority in Granite City. \nBreakfast by\nMembers: $10.00\nNon-members: $15.00\n\nPlease RSVP by calling the office at 618-876-6400 or emailing chamber@chamberswmc.org
URL:https://chamberswmc.org/event/eggs-issues-3/
LOCATION:Granite City Housing Authority\, 2517 Nameoki Road\, Granite City\, IL\, 62040\, United States
ATTACH;FMTTYPE=image/jpeg:https://chamberswmc.org/wp-content/uploads/2022/04/Eggs-Issues-Shane-Watson.jpg
END:VEVENT
BEGIN:VEVENT
DTSTART;TZID=America/Chicago:20220512T170000
DTEND;TZID=America/Chicago:20220512T170000
DTSTAMP:20260423T155237
CREATED:20220415T030449Z
LAST-MODIFIED:20220419T142131Z
UID:5577-1652374800-1652374800@chamberswmc.org
SUMMARY:It's 5 O'Clock Somewhere
DESCRIPTION:Join us at the NEW Speakeasy in Downtown Granite City! \nWhere? 1318 Niedringhaus Ave  When? May 12th \nPlease RSVP by calling the office at 618-876-6400 or emailing chamber@chamberswmc.org \n 
URL:https://chamberswmc.org/event/its-5-oclock-somewhere-3/
LOCATION:IL
ATTACH;FMTTYPE=image/jpeg:https://chamberswmc.org/wp-content/uploads/2022/04/5-oclock-Speakeasy.jpg
END:VEVENT
BEGIN:VEVENT
DTSTART;TZID=America/Chicago:20220505T113000
DTEND;TZID=America/Chicago:20220505T113000
DTSTAMP:20260423T155237
CREATED:20220418T130031Z
LAST-MODIFIED:20220429T174406Z
UID:6698-1651750200-1651750200@chamberswmc.org
SUMMARY:Networking Luncheon
DESCRIPTION:This month for the Chamber’s Networking Luncheon we’re excited to hear from the Granite City Cool Cities Committee! Join us May 5th at Jerry’s Cafeteria from 11:30am – 1:00pm!\n\n\n\n\n“The mission of the Granite City Cool Cities Committee is to help move Granite City forward socially\, economically\, and ecologically by creating a viable present and vibrant future. We work with the government of Granite City to educate and inspire residents\, businesses\, and organizations to build a more sustainable\, cleaner\, greener city.”\n\n\n\n\nCheck out some of the Cool Cities Committee’s accomplishments that were mentioned in the 2021 St. Louis Green Business Challenge (Page 19) https://stlouisgreenchallenge.files.wordpress.com/…/202…\n\n\n\n\nPlease RSVP by calling the Chamber office (618) 876-6400 or by emailing chamber@chamberswmc.org
URL:https://chamberswmc.org/event/networking-luncheon-5/
LOCATION:Jerry’s Cafeteria\, 1920 Edison Ave\, Granite City\, IL\, 62040\, United States
ATTACH;FMTTYPE=image/jpeg:https://chamberswmc.org/wp-content/uploads/2022/04/networking-luncheon-cool-city.jpg
END:VEVENT
BEGIN:VEVENT
DTSTART;TZID=America/Chicago:20220421T073000
DTEND;TZID=America/Chicago:20220421T090000
DTSTAMP:20260423T155237
CREATED:20220302T024848Z
LAST-MODIFIED:20220413T145654Z
UID:5387-1650526200-1650531600@chamberswmc.org
SUMMARY:Eggs & Issues
DESCRIPTION:Join us for Eggs & Issues on April 21st with Mary Lamie\, P.E. Executive Director of the St. Louis Regional Freightway! \nBreakfast by\nMembers: $10.00\nNon-members: $15.00\n\nPlease RSVP by calling the office at 618-876-6400 or emailing chamber@chamberswmc.org\n 
URL:https://chamberswmc.org/event/eggs-issues-2/
LOCATION:IL
ATTACH;FMTTYPE=image/jpeg:https://chamberswmc.org/wp-content/uploads/2022/03/eggs-issues-Mary-lamie.jpg
END:VEVENT
BEGIN:VEVENT
DTSTART;TZID=America/Chicago:20220414T170000
DTEND;TZID=America/Chicago:20220414T190000
DTSTAMP:20260423T155237
CREATED:20220302T024309Z
LAST-MODIFIED:20220414T180013Z
UID:5385-1649955600-1649962800@chamberswmc.org
SUMMARY:It's 5'clock Somewhere
DESCRIPTION:Join us for a networking opportunity at Ernie and Annie’s. It’s got to be 5 O’Clock Somewhere April 14th! This establishment is a historic landmark in our community located in Granite City’s Historic Lincoln Place Neighborhood! \nEach month the Chamber visits a different bar & grill in our community. This not only provides a networking opportunity\, but an opportunity to support a local business! \n\n\nPlease let us know if your able to attend by calling the office at 618-876-6400 or emailing chamber@chamberswmc.org.
URL:https://chamberswmc.org/event/its-5clock-somewhere/
LOCATION:Ernie & Annie’s\, 935 Niedringhaus Ave\, Granite City\, IL\, 62040\, United States
ATTACH;FMTTYPE=image/jpeg:https://chamberswmc.org/wp-content/uploads/2022/03/5-Oclock-Ernie-annies-docx.jpg
END:VEVENT
BEGIN:VEVENT
DTSTART;TZID=America/Chicago:20220407T113000
DTEND;TZID=America/Chicago:20220407T130000
DTSTAMP:20260423T155237
CREATED:20220302T023730Z
LAST-MODIFIED:20220413T145534Z
UID:5383-1649331000-1649336400@chamberswmc.org
SUMMARY:Networking Luncheon
DESCRIPTION:Hear from Justin Brinkmeyer\, Director of Granite City Park District\, on upcoming activities going on within the park district on April 7th! \nJerry’s Cafeteria from 11:30am – 1:00pm \nPlease RSVP by calling the office at 618-876-6400 or emailing chamber@chamberswmc.org
URL:https://chamberswmc.org/event/networking-luncheon-4/
LOCATION:Jerry’s Cafeteria\, 1920 Edison Ave\, Granite City\, IL\, 62040\, United States
ATTACH;FMTTYPE=image/jpeg:https://chamberswmc.org/wp-content/uploads/2022/03/Networking-Luncheon-4-7-2022-Flyer.jpg
END:VEVENT
BEGIN:VEVENT
DTSTART;TZID=America/Chicago:20220328T173000
DTEND;TZID=America/Chicago:20220328T173000
DTSTAMP:20260423T155237
CREATED:20220307T040038Z
LAST-MODIFIED:20220414T175717Z
UID:5575-1648488600-1648488600@chamberswmc.org
SUMMARY:April 25th Chamber of Commerce Southwestern Madison County Board Meeting
DESCRIPTION:
URL:https://chamberswmc.org/event/chamber-of-commerce-southwestern-madison-county-board-meeting/
LOCATION:IL
END:VEVENT
BEGIN:VEVENT
DTSTART;TZID=America/Chicago:20220317T073000
DTEND;TZID=America/Chicago:20220317T090000
DTSTAMP:20260423T155237
CREATED:20220302T023320Z
LAST-MODIFIED:20220308T171452Z
UID:5381-1647502200-1647507600@chamberswmc.org
SUMMARY:Eggs & Issues
DESCRIPTION:The March 17th Eggs & Issues presents The State of Our Cities with Mayor Parkinson\, Mayor John Hamm\, Mayor Tyrone Nichols (TBC)\, and Mayor Pagano! \nJoin us at the Granite City Housing Authority \nBreakfast by\nMembers: $10.00\nNon-members: $15.00\n\nPlease RSVP by calling the office at 618-876-6400 or emailing chamber@chamberswmc.org\n 
URL:https://chamberswmc.org/event/eggs-issues/
LOCATION:Granite City Housing Authority\, 2517 Nameoki Road\, Granite City\, IL\, 62040\, United States
ATTACH;FMTTYPE=image/jpeg:https://chamberswmc.org/wp-content/uploads/2022/03/Eggs-Issues-March-22-Mayors-2-.jpg
END:VEVENT
BEGIN:VEVENT
DTSTART;TZID=America/Chicago:20220310T170000
DTEND;TZID=America/Chicago:20220310T190000
DTSTAMP:20260423T155237
CREATED:20220302T022805Z
LAST-MODIFIED:20220303T161701Z
UID:5379-1646931600-1646938800@chamberswmc.org
SUMMARY:It's 5 O'clock Somewhere
DESCRIPTION:Join us for a networking opportunity at Patrick’s Bar & Grill. It’s got to be 5 O’Clock Somewhere March 10th! \nPlease let us know if your able to attend by calling the office at 618-876-6400 or emailing chamber@chamberswmc.org.
URL:https://chamberswmc.org/event/its-5-oclock-somewhere-2/
LOCATION:Patrick’s Bar & Grill\, 2900 Nameoki Road\, Granite City\, IL\, 62040\, United States
ATTACH;FMTTYPE=image/jpeg:https://chamberswmc.org/wp-content/uploads/2022/03/5-Oclock-Patricks.jpg
END:VEVENT
BEGIN:VEVENT
DTSTART;TZID=America/Chicago:20220303T113000
DTEND;TZID=America/Chicago:20220303T130000
DTSTAMP:20260423T155237
CREATED:20220302T022041Z
LAST-MODIFIED:20220303T162328Z
UID:5377-1646307000-1646312400@chamberswmc.org
SUMMARY:Networking Luncheon
DESCRIPTION:Join us with Tammy Kruse and Robert Werden\, Regional Superintendent\, on the Give 30 Mentoring Program! \nPlease RSVP by calling the office at 618-876-6400 or emailing chamber@chamberswmc.org
URL:https://chamberswmc.org/event/networking-luncheon-3/
LOCATION:Jerry’s Cafeteria\, 1920 Edison Ave\, Granite City\, IL\, 62040\, United States
ATTACH;FMTTYPE=image/jpeg:https://chamberswmc.org/wp-content/uploads/2022/03/networking-Luncheon-March-3-22.jpg
END:VEVENT
BEGIN:VEVENT
DTSTART;TZID=America/Chicago:20220217T113000
DTEND;TZID=America/Chicago:20220217T130000
DTSTAMP:20260423T155237
CREATED:20220209T021532Z
LAST-MODIFIED:20220303T161302Z
UID:5375-1645097400-1645102800@chamberswmc.org
SUMMARY:Networking Luncheon
DESCRIPTION:We have confirmed a rescheduled date for the Chamber’s monthly Networking Luncheon. The event was cancelled due to the weather conditions last week.\n\nJoin us to hear about a new\, first time community Mardi Gras celebration!\n\nPlease RSVP by calling the office at 618-876-6400 or emailing chamber@chamberswmc.org
URL:https://chamberswmc.org/event/networking-luncheon-2/
LOCATION:Jerry’s Cafeteria\, 1920 Edison Ave\, Granite City\, IL\, 62040\, United States
ATTACH;FMTTYPE=image/jpeg:https://chamberswmc.org/wp-content/uploads/2022/03/Rescheduled-Mrdi-Gras-2.jpg
END:VEVENT
BEGIN:VEVENT
DTSTART;TZID=America/Chicago:20220217T073000
DTEND;TZID=America/Chicago:20220217T090000
DTSTAMP:20260423T155237
CREATED:20220208T020347Z
LAST-MODIFIED:20220308T171357Z
UID:5369-1645083000-1645088400@chamberswmc.org
SUMMARY:Eggs & Issues
DESCRIPTION:Join us at America’s Central Port for Eggs & Issues February 17th! We are excited to hear about the NASCAR Cup coming to the World Wide Technology Raceway June 3-5!\n\nBreakfast by St. Louis Bread Company\nMembers: $10.00\nNon-members: $15.00\n\nPlease RSVP by calling the office at 618-876-6400 or emailing chamber@chamberswmc.org
URL:https://chamberswmc.org/event/eggs-issues-february-17th/
LOCATION:America’s Central Port\, 1635 West 1st Street\, Granite City\, IL\, 62040\, United States
ATTACH;FMTTYPE=image/jpeg:https://chamberswmc.org/wp-content/uploads/2022/03/Eggs-Issues-February.jpg
END:VEVENT
BEGIN:VEVENT
DTSTART;TZID=America/Chicago:20220210T170000
DTEND;TZID=America/Chicago:20220210T190000
DTSTAMP:20260423T155237
CREATED:20220202T014132Z
LAST-MODIFIED:20220303T162303Z
UID:5363-1644512400-1644519600@chamberswmc.org
SUMMARY:It's 5 O'clock Somewhere
DESCRIPTION:Join us for It’s 5 O’clock Somewhere! This month we are visiting Mastermind Vodka who now has a full kitchen! \nPlease RSVP by calling the office at 618-876-6400 or emailing chamber@chamberswmc.org
URL:https://chamberswmc.org/event/its-5-oclock-somewhere/
LOCATION:Mastermind Vodka\, 5111 IL-111\, Pontoon Beach\, IL\, 62040\, United States
ATTACH;FMTTYPE=image/jpeg:https://chamberswmc.org/wp-content/uploads/2022/03/5-Oclock-Mastermind-February-22.jpg
END:VEVENT
BEGIN:VEVENT
DTSTART;TZID=America/Chicago:20220203T113000
DTEND;TZID=America/Chicago:20220203T130000
DTSTAMP:20260423T155237
CREATED:20220121T021014Z
LAST-MODIFIED:20220303T161325Z
UID:5371-1643887800-1643893200@chamberswmc.org
SUMMARY:Networking Luncheon
DESCRIPTION:Hear about the newly planned Mardi Gras celebration brought to you by the City of Granite City’s department of Art – Entertainment & Tourism. Our speakers are Chelsea Scaturro and Megan Dittman!\n\nPlease RSVP by calling the office at 618-876-6400 or emailing chamber@chamberswmc.org\n 
URL:https://chamberswmc.org/event/networking-luncheon/
LOCATION:Jerry’s Cafeteria\, 1920 Edison Ave\, Granite City\, IL\, 62040\, United States
ATTACH;FMTTYPE=image/jpeg:https://chamberswmc.org/wp-content/uploads/2022/03/Networking-Luncheon-Mrdi-Gras-1.jpg
END:VEVENT
END:VCALENDAR