BEGIN:VCALENDAR
VERSION:2.0
PRODID:-//Chamber of Commerce Southwestern Madison County - ECPv6.15.20//NONSGML v1.0//EN
CALSCALE:GREGORIAN
METHOD:PUBLISH
X-WR-CALNAME:Chamber of Commerce Southwestern Madison County
X-ORIGINAL-URL:https://chamberswmc.org
X-WR-CALDESC:Events for Chamber of Commerce Southwestern Madison County
REFRESH-INTERVAL;VALUE=DURATION:PT1H
X-Robots-Tag:noindex
X-PUBLISHED-TTL:PT1H
BEGIN:VTIMEZONE
TZID:America/Chicago
BEGIN:DAYLIGHT
TZOFFSETFROM:-0600
TZOFFSETTO:-0500
TZNAME:CDT
DTSTART:20210314T080000
END:DAYLIGHT
BEGIN:STANDARD
TZOFFSETFROM:-0500
TZOFFSETTO:-0600
TZNAME:CST
DTSTART:20211107T070000
END:STANDARD
BEGIN:DAYLIGHT
TZOFFSETFROM:-0600
TZOFFSETTO:-0500
TZNAME:CDT
DTSTART:20220313T080000
END:DAYLIGHT
BEGIN:STANDARD
TZOFFSETFROM:-0500
TZOFFSETTO:-0600
TZNAME:CST
DTSTART:20221106T070000
END:STANDARD
BEGIN:DAYLIGHT
TZOFFSETFROM:-0600
TZOFFSETTO:-0500
TZNAME:CDT
DTSTART:20230312T080000
END:DAYLIGHT
BEGIN:STANDARD
TZOFFSETFROM:-0500
TZOFFSETTO:-0600
TZNAME:CST
DTSTART:20231105T070000
END:STANDARD
END:VTIMEZONE
BEGIN:VEVENT
DTSTART;TZID=America/Chicago:20220210T170000
DTEND;TZID=America/Chicago:20220210T190000
DTSTAMP:20260423T173141
CREATED:20220202T014132Z
LAST-MODIFIED:20220303T162303Z
UID:5363-1644512400-1644519600@chamberswmc.org
SUMMARY:It's 5 O'clock Somewhere
DESCRIPTION:Join us for It’s 5 O’clock Somewhere! This month we are visiting Mastermind Vodka who now has a full kitchen! \nPlease RSVP by calling the office at 618-876-6400 or emailing chamber@chamberswmc.org
URL:https://chamberswmc.org/event/its-5-oclock-somewhere/
LOCATION:Mastermind Vodka\, 5111 IL-111\, Pontoon Beach\, IL\, 62040\, United States
ATTACH;FMTTYPE=image/jpeg:https://chamberswmc.org/wp-content/uploads/2022/03/5-Oclock-Mastermind-February-22.jpg
END:VEVENT
BEGIN:VEVENT
DTSTART;TZID=America/Chicago:20220203T113000
DTEND;TZID=America/Chicago:20220203T130000
DTSTAMP:20260423T173141
CREATED:20220121T021014Z
LAST-MODIFIED:20220303T161325Z
UID:5371-1643887800-1643893200@chamberswmc.org
SUMMARY:Networking Luncheon
DESCRIPTION:Hear about the newly planned Mardi Gras celebration brought to you by the City of Granite City’s department of Art – Entertainment & Tourism. Our speakers are Chelsea Scaturro and Megan Dittman!\n\nPlease RSVP by calling the office at 618-876-6400 or emailing chamber@chamberswmc.org\n 
URL:https://chamberswmc.org/event/networking-luncheon/
LOCATION:Jerry’s Cafeteria\, 1920 Edison Ave\, Granite City\, IL\, 62040\, United States
ATTACH;FMTTYPE=image/jpeg:https://chamberswmc.org/wp-content/uploads/2022/03/Networking-Luncheon-Mrdi-Gras-1.jpg
END:VEVENT
END:VCALENDAR